BEGIN:VCALENDAR
VERSION:2.0
PRODID:-//UniHill Church - ECPv6.15.20//NONSGML v1.0//EN
CALSCALE:GREGORIAN
METHOD:PUBLISH
X-WR-CALNAME:UniHill Church
X-ORIGINAL-URL:https://unihillchurch.com.au
X-WR-CALDESC:Events for UniHill Church
REFRESH-INTERVAL;VALUE=DURATION:PT1H
X-Robots-Tag:noindex
X-PUBLISHED-TTL:PT1H
BEGIN:VTIMEZONE
TZID:Australia/Melbourne
BEGIN:STANDARD
TZOFFSETFROM:+1100
TZOFFSETTO:+1000
TZNAME:AEST
DTSTART:20240406T160000
END:STANDARD
BEGIN:DAYLIGHT
TZOFFSETFROM:+1000
TZOFFSETTO:+1100
TZNAME:AEDT
DTSTART:20241005T160000
END:DAYLIGHT
BEGIN:STANDARD
TZOFFSETFROM:+1100
TZOFFSETTO:+1000
TZNAME:AEST
DTSTART:20250405T160000
END:STANDARD
BEGIN:DAYLIGHT
TZOFFSETFROM:+1000
TZOFFSETTO:+1100
TZNAME:AEDT
DTSTART:20251004T160000
END:DAYLIGHT
BEGIN:STANDARD
TZOFFSETFROM:+1100
TZOFFSETTO:+1000
TZNAME:AEST
DTSTART:20260404T160000
END:STANDARD
BEGIN:DAYLIGHT
TZOFFSETFROM:+1000
TZOFFSETTO:+1100
TZNAME:AEDT
DTSTART:20261003T160000
END:DAYLIGHT
BEGIN:STANDARD
TZOFFSETFROM:+1100
TZOFFSETTO:+1000
TZNAME:AEST
DTSTART:20270403T160000
END:STANDARD
BEGIN:DAYLIGHT
TZOFFSETFROM:+1000
TZOFFSETTO:+1100
TZNAME:AEDT
DTSTART:20271002T160000
END:DAYLIGHT
END:VTIMEZONE
BEGIN:VTIMEZONE
TZID:Australia/Melbourne
BEGIN:STANDARD
TZOFFSETFROM:+1100
TZOFFSETTO:+1000
TZNAME:AEST
DTSTART:20240406T160000
END:STANDARD
BEGIN:DAYLIGHT
TZOFFSETFROM:+1000
TZOFFSETTO:+1100
TZNAME:AEDT
DTSTART:20241005T160000
END:DAYLIGHT
BEGIN:STANDARD
TZOFFSETFROM:+1100
TZOFFSETTO:+1000
TZNAME:AEST
DTSTART:20250405T160000
END:STANDARD
BEGIN:DAYLIGHT
TZOFFSETFROM:+1000
TZOFFSETTO:+1100
TZNAME:AEDT
DTSTART:20251004T160000
END:DAYLIGHT
BEGIN:STANDARD
TZOFFSETFROM:+1100
TZOFFSETTO:+1000
TZNAME:AEST
DTSTART:20260404T160000
END:STANDARD
BEGIN:DAYLIGHT
TZOFFSETFROM:+1000
TZOFFSETTO:+1100
TZNAME:AEDT
DTSTART:20261003T160000
END:DAYLIGHT
END:VTIMEZONE
BEGIN:VEVENT
DTSTART;TZID=Australia/Melbourne:20260312T100000
DTEND;TZID=Australia/Melbourne:20260312T113000
DTSTAMP:20260420T073611
CREATED:20250702T053328Z
LAST-MODIFIED:20260302T225703Z
UID:1687-1773309600-1773315000@unihillchurch.com.au
SUMMARY:Flourish Women's Group
DESCRIPTION:Flourish is a space for women of all ages and life stages to connect\, grow in faith\, and build meaningful community. Whether you’re a student\, a mum\, working\, retired or anywhere in between\, you’re welcome here. We’ll share coffee\, conversation\, and encouragement as we explore the Bible together and support one another through life’s ups and downs. No sign-up needed\, just come when you can\, bring the kids if you like\, and be in the room. We’ll be meeting in the Wesley Room\, UniHill Church Bundoora. If you need more info\, please email jasmine@unihillchurch.com.au
URL:https://unihillchurch.com.au/event/flourish-womens-group/
LOCATION:UniHill Church Bundoora\, 30 Graduate Rd\, Bundoora\, VIC\, 3083\, Australia
CATEGORIES:Bundoora
ATTACH;FMTTYPE=image/png:https://unihillchurch.com.au/wp-content/uploads/2025/07/Foyer-Screen-Slides.png
END:VEVENT
BEGIN:VEVENT
DTSTART;VALUE=DATE:20260301
DTEND;VALUE=DATE:20260302
DTSTAMP:20260420T073611
CREATED:20250319T033902Z
LAST-MODIFIED:20260206T034209Z
UID:1533-1772323200-1772409599@unihillchurch.com.au
SUMMARY:Anointing Service
DESCRIPTION:Join us for a powerful Anointing Service on March 1st! It’s a special time to seek God’s presence and be released into the will for our lives. We’d love to see you there as we gather in faith and prayer.
URL:https://unihillchurch.com.au/event/anointing-service/
LOCATION:UniHill Church Bundoora\, 30 Graduate Rd\, Bundoora\, VIC\, 3083\, Australia
CATEGORIES:Bundoora
ATTACH;FMTTYPE=image/png:https://unihillchurch.com.au/wp-content/uploads/2025/03/Foyer-Screen-Slides-1.png
END:VEVENT
BEGIN:VEVENT
DTSTART;VALUE=DATE:20260223
DTEND;VALUE=DATE:20260302
DTSTAMP:20260420T073611
CREATED:20260217T043145Z
LAST-MODIFIED:20260223T221054Z
UID:2392-1771804800-1772409599@unihillchurch.com.au
SUMMARY:Prayer & Fasting
DESCRIPTION:We have our week of Prayer & Fasting coming up\, starting on Monday 23rd February. This is a great opportunity and we are encouraged as believers to participate in this practice. Abstaining from food in order to deepen our connection to God\, we are being spiritually disciplined and allowing our spirit to strengthen as we focus on God. Ultimately drawing us closer to Him. \n7 Day Prayer and Fasting GuideRomans 15:13 \nMay the God of hope fill you with all joy and peace as you trust in him\, so that you may overflow with hope by the power of the Holy Spirit.
URL:https://unihillchurch.com.au/event/prayer-fasting/
CATEGORIES:Bundoora
ATTACH;FMTTYPE=image/png:https://unihillchurch.com.au/wp-content/uploads/2026/02/Nomis-Dev-Centre-1.png
END:VEVENT
BEGIN:VEVENT
DTSTART;TZID=Australia/Melbourne:20260208T090000
DTEND;TZID=Australia/Melbourne:20260208T123000
DTSTAMP:20260420T073611
CREATED:20260205T204949Z
LAST-MODIFIED:20260205T221522Z
UID:2200-1770541200-1770553800@unihillchurch.com.au
SUMMARY:Vision Sunday
DESCRIPTION:This Sunday we’ll be gathering for Vision Sunday. Come expectant to hear what God has placed on Ps Charles’ heart for UniHill Church in 2026\, and to respond in faith to what God is leading us to participate in this year\, as disciples of Jesus in our community and beyond.
URL:https://unihillchurch.com.au/event/vision-sunday/
ATTACH;FMTTYPE=image/png:https://unihillchurch.com.au/wp-content/uploads/2026/02/Nomis-Development-Centre-1.png
END:VEVENT
BEGIN:VEVENT
DTSTART;TZID=Australia/Melbourne:20251225T090000
DTEND;TZID=Australia/Melbourne:20251225T100000
DTSTAMP:20260420T073611
CREATED:20241126T023234Z
LAST-MODIFIED:20251208T225825Z
UID:1289-1766653200-1766656800@unihillchurch.com.au
SUMMARY:Christmas Day Service
DESCRIPTION:🎄✨ Celebrate Christmas with Us! ✨🎄 \nJoin us for a special Christmas Service on December 25th\, from 9–10am\, as we reflect on the incredible gift of Jesus Christ\, our Savior. \nIt’s going to be a meaningful and joyful time together\, and we’d love to see you there! 🌟❤️
URL:https://unihillchurch.com.au/event/christmas-day-service/
CATEGORIES:Bundoora
ATTACH;FMTTYPE=image/png:https://unihillchurch.com.au/wp-content/uploads/2024/11/Hope-at-Christmas-Basic-Slide-Pack.pptx-1.png
END:VEVENT
BEGIN:VEVENT
DTSTART;VALUE=DATE:20251214
DTEND;VALUE=DATE:20251215
DTSTAMP:20260420T073611
CREATED:20251205T041625Z
LAST-MODIFIED:20251208T215456Z
UID:1982-1765670400-1765756799@unihillchurch.com.au
SUMMARY:Christmas Celebration Service
DESCRIPTION:It’s such a wonderful opportunity to gather together to celebrate the birth of Jesus. There will be Christmas decorations\, carols (played by a full band + choir)\, a presentation from the UniHill kids plus lots and lots of joy! We’d love for you to come along\, bring your family and friends and join us in creating a bit of that Christmas spirit. Look forward to seeing you there! \nChristmas at UniHill Church. We’ll be having a special service on Sunday 14th of December\, both 9am & 11am services\, to celebrate the wonderful time of year that is Christmas.
URL:https://unihillchurch.com.au/event/christmas-celebration-service/
LOCATION:UniHill Church Bundoora\, 30 Graduate Rd\, Bundoora\, VIC\, 3083\, Australia
CATEGORIES:Bundoora
ATTACH;FMTTYPE=image/png:https://unihillchurch.com.au/wp-content/uploads/2025/12/THIS-IS-AN-IMPORTANT-POINT.png
END:VEVENT
BEGIN:VEVENT
DTSTART;TZID=Australia/Melbourne:20251111T190000
DTEND;TZID=Australia/Melbourne:20251111T203000
DTSTAMP:20260420T073611
CREATED:20251028T043326Z
LAST-MODIFIED:20260311T014534Z
UID:1930-1762887600-1762893000@unihillchurch.com.au
SUMMARY:Shane Willard
DESCRIPTION:Shane is from Charleston\, SC (USA)\, and has been in full-time ministry for over 20 years. He began working in full-time ministry as a youth pastor of a small church. Since that time\, Shane has held multiple pastoral positions at various sized churches. With degrees in both clinical psychology and theology\, Shane is known for being an informative\, brilliant and humorous communicator. \nShane is mentored by a pastor with rabbinical training\, and teaches the context of the Scriptures from a Hebraic perspective. This perspective helps people to see God’s Word in a completely new way and leads them into a more intimate relationship with the Messiah\, Jesus Christ \nWe’d love for you to join us for an evening of hearing Shane talk about love\, hope and God’s word. \nDetails:\n6th August 2026\n7pm – 8:30pm \nRegister Here
URL:https://unihillchurch.com.au/event/shane-willard/
LOCATION:UniHill Church Bundoora\, 30 Graduate Rd\, Bundoora\, VIC\, 3083\, Australia
CATEGORIES:Bundoora
ATTACH;FMTTYPE=image/jpeg:https://unihillchurch.com.au/wp-content/uploads/2025/10/Shane-Willard-1.jpg
END:VEVENT
BEGIN:VEVENT
DTSTART;TZID=Australia/Melbourne:20251025T180000
DTEND;TZID=Australia/Melbourne:20251025T220000
DTSTAMP:20260420T073611
CREATED:20250925T055316Z
LAST-MODIFIED:20251024T223945Z
UID:1807-1761415200-1761429600@unihillchurch.com.au
SUMMARY:Girl's Night Out
DESCRIPTION:Girl’s Night Out \nWe’re heading to Slices Doreen on Saturday\, 25th October 2025\, from 6pm – 10pm. \nIt won’t be the same without you! Come share a fun evening of great food\, amazing company\, and plenty of laughter. \nThis night is for women of all ages. Bring your mum\, your bestie\, your daughter\, your neighbour\, your sister or your workmates. Together we’ll enjoy a delicious dinner\, a hilarious panel\, and prizes that will make the night unforgettable! \nThis event is now full\, but to join a waitlist please email Jasmine Crennan: jasmine@unihillchurch.com.au
URL:https://unihillchurch.com.au/event/girls-night-out/
LOCATION:Slices Doreen\, 1/80 Hazel Glen Drive\, Doreen\, VIC\, 3754\, Australia
CATEGORIES:Bundoora
ATTACH;FMTTYPE=image/png:https://unihillchurch.com.au/wp-content/uploads/2025/09/Girls-Night-Slide-2.png
END:VEVENT
END:VCALENDAR