BEGIN:VCALENDAR
VERSION:2.0
PRODID:-//UniHill Church - ECPv6.15.20//NONSGML v1.0//EN
CALSCALE:GREGORIAN
METHOD:PUBLISH
X-WR-CALNAME:UniHill Church
X-ORIGINAL-URL:https://unihillchurch.com.au
X-WR-CALDESC:Events for UniHill Church
REFRESH-INTERVAL;VALUE=DURATION:PT1H
X-Robots-Tag:noindex
X-PUBLISHED-TTL:PT1H
BEGIN:VTIMEZONE
TZID:Australia/Melbourne
BEGIN:STANDARD
TZOFFSETFROM:+1100
TZOFFSETTO:+1000
TZNAME:AEST
DTSTART:20240406T160000
END:STANDARD
BEGIN:DAYLIGHT
TZOFFSETFROM:+1000
TZOFFSETTO:+1100
TZNAME:AEDT
DTSTART:20241005T160000
END:DAYLIGHT
BEGIN:STANDARD
TZOFFSETFROM:+1100
TZOFFSETTO:+1000
TZNAME:AEST
DTSTART:20250405T160000
END:STANDARD
BEGIN:DAYLIGHT
TZOFFSETFROM:+1000
TZOFFSETTO:+1100
TZNAME:AEDT
DTSTART:20251004T160000
END:DAYLIGHT
BEGIN:STANDARD
TZOFFSETFROM:+1100
TZOFFSETTO:+1000
TZNAME:AEST
DTSTART:20260404T160000
END:STANDARD
BEGIN:DAYLIGHT
TZOFFSETFROM:+1000
TZOFFSETTO:+1100
TZNAME:AEDT
DTSTART:20261003T160000
END:DAYLIGHT
BEGIN:STANDARD
TZOFFSETFROM:+1100
TZOFFSETTO:+1000
TZNAME:AEST
DTSTART:20270403T160000
END:STANDARD
BEGIN:DAYLIGHT
TZOFFSETFROM:+1000
TZOFFSETTO:+1100
TZNAME:AEDT
DTSTART:20271002T160000
END:DAYLIGHT
END:VTIMEZONE
BEGIN:VTIMEZONE
TZID:Australia/Melbourne
BEGIN:STANDARD
TZOFFSETFROM:+1100
TZOFFSETTO:+1000
TZNAME:AEST
DTSTART:20240406T160000
END:STANDARD
BEGIN:DAYLIGHT
TZOFFSETFROM:+1000
TZOFFSETTO:+1100
TZNAME:AEDT
DTSTART:20241005T160000
END:DAYLIGHT
BEGIN:STANDARD
TZOFFSETFROM:+1100
TZOFFSETTO:+1000
TZNAME:AEST
DTSTART:20250405T160000
END:STANDARD
BEGIN:DAYLIGHT
TZOFFSETFROM:+1000
TZOFFSETTO:+1100
TZNAME:AEDT
DTSTART:20251004T160000
END:DAYLIGHT
BEGIN:STANDARD
TZOFFSETFROM:+1100
TZOFFSETTO:+1000
TZNAME:AEST
DTSTART:20260404T160000
END:STANDARD
BEGIN:DAYLIGHT
TZOFFSETFROM:+1000
TZOFFSETTO:+1100
TZNAME:AEDT
DTSTART:20261003T160000
END:DAYLIGHT
END:VTIMEZONE
BEGIN:VEVENT
DTSTART;TZID=Australia/Melbourne:20260531T150000
DTEND;TZID=Australia/Melbourne:20260531T163000
DTSTAMP:20260420T041219
CREATED:20241018T021922Z
LAST-MODIFIED:20260416T225104Z
UID:1145-1780239600-1780245000@unihillchurch.com.au
SUMMARY:Welcome Afternoon Tea
DESCRIPTION:Welcome Afternoon Tea \nWhen you first visit a church\, it can sometimes feel like you’re the only new person but you’re not alone! \nWe’d love to invite you to our Welcome Afternoon Tea\, a relaxed and friendly space where you can meet others who are new\, connect with our team\, and hear a little about who we are at UniHill Church. \nJoin us for a delicious afternoon tea as we spend time getting to know one another and helping you feel at home in our community. All are welcome\, including kids. \nPlease register so we can cater for you\, and one of our team will be in touch with further details as the event approaches. \nWe can’t wait to meet you! \nRegister Here
URL:https://unihillchurch.com.au/event/welcome-afternoon-tea/
CATEGORIES:Bundoora
ATTACH;FMTTYPE=image/png:https://unihillchurch.com.au/wp-content/uploads/2024/10/Nomis-Dev-Centre.png
END:VEVENT
BEGIN:VEVENT
DTSTART;TZID=Australia/Melbourne:20260531T110000
DTEND;TZID=Australia/Melbourne:20260531T123000
DTSTAMP:20260420T041219
CREATED:20240826T032733Z
LAST-MODIFIED:20260324T000711Z
UID:998-1780225200-1780230600@unihillchurch.com.au
SUMMARY:Baptism
DESCRIPTION:“For we died and were buried with Christ by baptism. And just as Christ was raised from the dead by the glorious power of the Father\, now we also may live new lives.” — Romans 6:4 \nConsidering Baptism? \nWe’re excited to invite you into the meaningful journey of baptism. Whether you’re ready to publicly declare your commitment to Christ or simply want to learn more\, we’d love to support you and walk alongside you. \nRegister your interest below to start the conversation. \nRegister Here
URL:https://unihillchurch.com.au/event/baptism/
LOCATION:UniHill Church Bundoora\, 30 Graduate Rd\, Bundoora\, VIC\, 3083\, Australia
CATEGORIES:Bundoora
ATTACH;FMTTYPE=image/png:https://unihillchurch.com.au/wp-content/uploads/2024/08/BAPTISM-SUNDAY.png
END:VEVENT
BEGIN:VEVENT
DTSTART;TZID=Australia/Melbourne:20260506T190000
DTEND;TZID=Australia/Melbourne:20260506T210000
DTSTAMP:20260420T041219
CREATED:20260203T053140Z
LAST-MODIFIED:20260414T012830Z
UID:2179-1778094000-1778101200@unihillchurch.com.au
SUMMARY:Team Night
DESCRIPTION:We’d love for you to join us for our upcoming All in Team Night on Wednesday\, 6th May\, from 7:00pm to 9:00pm at UniHill Church Bundoora. This night is all about our teams\, creating space for connection\, vision\, and development. It’s especially for those who serve on a team at UniHill Church\, but anyone is welcome to attend\, whether you’re currently on a team or not. \nWe’ll begin by connecting over light refreshments\, followed by a short time of worship as we fix our eyes on Jesus. Ps Charles will then lead us in vision and culture\, sharing what God is calling us into as a church in this season. From there\, we’ll break off into department teams to spend intentional time together\, strengthening relationships\, building culture\, and looking ahead as teams for 2026. \n 
URL:https://unihillchurch.com.au/event/team-night-2/
LOCATION:UniHill Church Bundoora\, 30 Graduate Rd\, Bundoora\, VIC\, 3083\, Australia
CATEGORIES:Bundoora
ATTACH;FMTTYPE=image/png:https://unihillchurch.com.au/wp-content/uploads/2026/02/Nomis-Dev-Centre.png
END:VEVENT
BEGIN:VEVENT
DTSTART;TZID=Australia/Melbourne:20260502T093000
DTEND;TZID=Australia/Melbourne:20260502T123000
DTSTAMP:20260420T041219
CREATED:20250610T001254Z
LAST-MODIFIED:20260205T235559Z
UID:1651-1777714200-1777725000@unihillchurch.com.au
SUMMARY:First Aid Training
DESCRIPTION:We have First Aid training available for all UHC Staff\, Department Leaders\, and Volunteers. Please see the details below and share this with anyone in your team who is interested or may need to complete or renew their training.We have First Aid training available for all UHC Staff\, Department Leaders\, and Volunteers. Please see the details below and share this with anyone in your team who is interested or may need to complete or renew their training. \nTraining Options & Costs \n\n\nHLTAID009 – CPR Course: $60 (Complete every 12 Months)\nRegister here: CPR Registration  Link \n\n\nHLTAID010 – First Aid & Life Support Course: $100 (Completed every 3 years. If last completed in 2023 or earlier\, it is now due again.)\nRegister here: First Aid Registration Link \n\n\nIf you’d like to complete both courses\, you only need to register for the First Aid & Life Support course\, as it also includes CPR.\n\n\nDate: Saturday 2 May 2026\nTime: 9:30am – 12:30pm \nImportant Information \n\n\nA Unique Student Identifier (USI) is required to complete your registration.\nIf you don’t have one yet or cannot remember it\, you can create or find it here:\nhttp://usi.gov.au/create-your-USI/Pages/default.aspx \n\n\nAny pre-course homework will be sent to you once you have registered and must be completed prior to Saturday 2 May. \n\n\nIf you’re interested in attending\, please fill out on of the two registration links above. We look forward to seeing you there!
URL:https://unihillchurch.com.au/event/first-aid-training/
CATEGORIES:Bundoora
ATTACH;FMTTYPE=image/png:https://unihillchurch.com.au/wp-content/uploads/2025/06/Nomis-Development-Centre.png
END:VEVENT
BEGIN:VEVENT
DTSTART;VALUE=DATE:20250427
DTEND;VALUE=DATE:20250428
DTSTAMP:20260420T041219
CREATED:20250211T234702Z
LAST-MODIFIED:20260414T052141Z
UID:1416-1745712000-1745798399@unihillchurch.com.au
SUMMARY:Foundations Course
DESCRIPTION:Are you new to the Christian faith and looking to build a stronger foundation for your spiritual walk? Then our free 8-week Foundations Course is for you!  \nThe classes are interactive and cover topics such as:  \n\nWhat is salvation? \n\n\nHow does God’s Word shape our lives? \n\n\nWho is the Holy Spirit? \n\n\nWhat is the purpose of the church? \n\n\nAnd much more! \n\nThis course\, run by a team of dedicated facilitators\, provides a space to ask questions and grow together. We would encourage you to attend all 8 sessions to get the most out of the experience\, and some light homework between sessions will help reinforce what you learn.  \nFoundations will commence Sunday 26th April and conclude Sunday 14th June. It will be held upstairs at UniHill Church during the 9am service\, after the time of worship together.  \nSpots are limited so make sure you register your interest today.  \nIf you have any further questions about this course\, please don’t hesitate to contact Cal at cal@unihillchurch.com.au  \n\nRegister Here
URL:https://unihillchurch.com.au/event/foundations-course/
LOCATION:UniHill Church Bundoora\, 30 Graduate Rd\, Bundoora\, VIC\, 3083\, Australia
CATEGORIES:Bundoora
ATTACH;FMTTYPE=image/png:https://unihillchurch.com.au/wp-content/uploads/2025/02/Foundations-Course-Presentation.png
END:VEVENT
BEGIN:VEVENT
DTSTART;TZID=Australia/Melbourne:20260407T103000
DTEND;TZID=Australia/Melbourne:20260407T123000
DTSTAMP:20260420T041219
CREATED:20240826T031329Z
LAST-MODIFIED:20260313T032603Z
UID:988-1775557800-1775565000@unihillchurch.com.au
SUMMARY:Freedom Fellowship
DESCRIPTION:Freedom Fellowship is a friendly gathering of over 55’s who support and care for each other. Our meetings are all about strengthening our faith and purpose in this season of life. Connection in the community is important\, and we aim to encourage and empower with great guest speakers\, singing\, communion and lunch together. Bring a plate to share\, and we hope to see you there! \nIf you need more info\, or if you are looking to come\, please get in touch with John Graham at john@unihillchurch.com.au
URL:https://unihillchurch.com.au/event/freedom-fellowship/
LOCATION:Rosa Cafe (UniHill Church Bundoora)\, 30 Graduate Drive\, Bundoora\, VIC\, 3083\, Australia
CATEGORIES:Bundoora
ATTACH;FMTTYPE=image/png:https://unihillchurch.com.au/wp-content/uploads/2024/08/Foyer-Screen-Slides.png
END:VEVENT
BEGIN:VEVENT
DTSTART;VALUE=DATE:20260405
DTEND;VALUE=DATE:20260406
DTSTAMP:20260420T041219
CREATED:20250319T034642Z
LAST-MODIFIED:20260319T222654Z
UID:1542-1775347200-1775433599@unihillchurch.com.au
SUMMARY:Resurrection Sunday
DESCRIPTION:Please celebrate with us this Easter Sunday\, April 5th\, 2026\, at our special All-In Service! Join us at 9:00 AM & 11:00 AM for a powerful time of worship\, celebration\, and community. Kids will start with us in the room as we worship and seek Jesus together before being released for their usual UHK Program. We look forward to seeing you there!
URL:https://unihillchurch.com.au/event/easter-sunday/
LOCATION:UniHill Church Bundoora\, 30 Graduate Rd\, Bundoora\, VIC\, 3083\, Australia
CATEGORIES:Bundoora
ATTACH;FMTTYPE=image/jpeg:https://unihillchurch.com.au/wp-content/uploads/2025/03/Overflowing-Passion-Service-Slide-2-x-Friday-Services.jpg
END:VEVENT
BEGIN:VEVENT
DTSTART;VALUE=DATE:20260403
DTEND;VALUE=DATE:20260404
DTSTAMP:20260420T041219
CREATED:20250319T034400Z
LAST-MODIFIED:20260319T222740Z
UID:1540-1775174400-1775260799@unihillchurch.com.au
SUMMARY:Good Friday Service
DESCRIPTION:Join us for our Good Friday Services at 9:00 AM & 10:30 AM as we reflect on the cross and the incredible love it represents. Please note that there will be no Kids Ministry on this day\, as we focus together on the significance of this moment. We look forward to gathering with you in worship and remembrance.
URL:https://unihillchurch.com.au/event/good-friday-service/
LOCATION:UniHill Church Bundoora\, 30 Graduate Rd\, Bundoora\, VIC\, 3083\, Australia
CATEGORIES:Bundoora
ATTACH;FMTTYPE=image/jpeg:https://unihillchurch.com.au/wp-content/uploads/2025/03/Overflowing-Passion-Service-Slide-2-x-Friday-Services.jpg
END:VEVENT
BEGIN:VEVENT
DTSTART;TZID=Australia/Melbourne:20260329T170000
DTEND;TZID=Australia/Melbourne:20260329T193000
DTSTAMP:20260420T041219
CREATED:20240826T023022Z
LAST-MODIFIED:20260302T230022Z
UID:976-1774803600-1774812600@unihillchurch.com.au
SUMMARY:Young Adults 5pm Service
DESCRIPTION:WE’RE BACK!\nOur 5pm service is run on the last Sunday of every month and is a great place to be on a Sunday night! Alive with energetic Praise\, Worship and Preaching that is faith-filled\, we see people encounter Jesus in a personal way every month. \nWe would love for you to join us at our 5pm Service\, where we will be seeking God as a community of young adults. So chat to Jordan and Taleisha for more info and why not invite a friend. \nFinally\, at the conclusion of the service we would love to host you in our welcome lounge where you can meet the team and get connected into the church family. And make sure you stick around Our post-service dinner hangouts are legendary!
URL:https://unihillchurch.com.au/event/young-adults-5pm-service/
LOCATION:UniHill Church Bundoora\, 30 Graduate Rd\, Bundoora\, VIC\, 3083\, Australia
CATEGORIES:Bundoora
ATTACH;FMTTYPE=image/png:https://unihillchurch.com.au/wp-content/uploads/2024/08/5PM-Welcome.png
END:VEVENT
BEGIN:VEVENT
DTSTART;TZID=Australia/Melbourne:20260328T170000
DTEND;TZID=Australia/Melbourne:20260328T200000
DTSTAMP:20260420T041219
CREATED:20251031T025550Z
LAST-MODIFIED:20260219T235513Z
UID:1939-1774717200-1774728000@unihillchurch.com.au
SUMMARY:Men's Racing Sims & American BBQ
DESCRIPTION:Men’s Social Event – Racing Simulation & American BBQ \n📅 28th March at 5:00pm – 8:00pm📍 2406 Plenty Road\, Whittlesea (SimRigs)💲 $40pp – includes food + sim racing \nThere is something for everyone with prizes up for grabs\, bragging rights and great food\, this is only the beggining for UniHill Men 2026. \n\n\n\n\n\n\n\nRegister Now
URL:https://unihillchurch.com.au/event/racing-sims/
LOCATION:2406 Plenty Road Whittlesea\, 2406 Plenty Road\, Whittlesea
CATEGORIES:Bundoora
ATTACH;FMTTYPE=image/png:https://unihillchurch.com.au/wp-content/uploads/2025/10/Mens-event-2.png
ORGANIZER;CN="John Graham":MAILTO:john@unihillchurch.com.au
END:VEVENT
BEGIN:VEVENT
DTSTART;TZID=Australia/Melbourne:20260321T140000
DTEND;TZID=Australia/Melbourne:20260321T170000
DTSTAMP:20260420T041219
CREATED:20250326T002941Z
LAST-MODIFIED:20260220T223857Z
UID:1563-1774101600-1774112400@unihillchurch.com.au
SUMMARY:Women's Indoor Picnic
DESCRIPTION:You’re invited to a relaxed afternoon of shared food\, laughter\, and unhurried time together at our Indoor Picnic. \nEnjoy delicious food\, great conversation\, and encouragement. \nRegister Here
URL:https://unihillchurch.com.au/event/womens-event-unveiled/
LOCATION:UniHill Church Bundoora\, 30 Graduate Rd\, Bundoora\, VIC\, 3083\, Australia
CATEGORIES:Bundoora
ATTACH;FMTTYPE=image/png:https://unihillchurch.com.au/wp-content/uploads/2025/03/Picnic-presentation-slide.png
END:VEVENT
BEGIN:VEVENT
DTSTART;TZID=Australia/Melbourne:20260312T100000
DTEND;TZID=Australia/Melbourne:20260312T113000
DTSTAMP:20260420T041219
CREATED:20250702T053328Z
LAST-MODIFIED:20260302T225703Z
UID:1687-1773309600-1773315000@unihillchurch.com.au
SUMMARY:Flourish Women's Group
DESCRIPTION:Flourish is a space for women of all ages and life stages to connect\, grow in faith\, and build meaningful community. Whether you’re a student\, a mum\, working\, retired or anywhere in between\, you’re welcome here. We’ll share coffee\, conversation\, and encouragement as we explore the Bible together and support one another through life’s ups and downs. No sign-up needed\, just come when you can\, bring the kids if you like\, and be in the room. We’ll be meeting in the Wesley Room\, UniHill Church Bundoora. If you need more info\, please email jasmine@unihillchurch.com.au
URL:https://unihillchurch.com.au/event/flourish-womens-group/
LOCATION:UniHill Church Bundoora\, 30 Graduate Rd\, Bundoora\, VIC\, 3083\, Australia
CATEGORIES:Bundoora
ATTACH;FMTTYPE=image/png:https://unihillchurch.com.au/wp-content/uploads/2025/07/Foyer-Screen-Slides.png
END:VEVENT
BEGIN:VEVENT
DTSTART;VALUE=DATE:20260301
DTEND;VALUE=DATE:20260302
DTSTAMP:20260420T041219
CREATED:20250319T033902Z
LAST-MODIFIED:20260206T034209Z
UID:1533-1772323200-1772409599@unihillchurch.com.au
SUMMARY:Anointing Service
DESCRIPTION:Join us for a powerful Anointing Service on March 1st! It’s a special time to seek God’s presence and be released into the will for our lives. We’d love to see you there as we gather in faith and prayer.
URL:https://unihillchurch.com.au/event/anointing-service/
LOCATION:UniHill Church Bundoora\, 30 Graduate Rd\, Bundoora\, VIC\, 3083\, Australia
CATEGORIES:Bundoora
ATTACH;FMTTYPE=image/png:https://unihillchurch.com.au/wp-content/uploads/2025/03/Foyer-Screen-Slides-1.png
END:VEVENT
BEGIN:VEVENT
DTSTART;VALUE=DATE:20260223
DTEND;VALUE=DATE:20260302
DTSTAMP:20260420T041219
CREATED:20260217T043145Z
LAST-MODIFIED:20260223T221054Z
UID:2392-1771804800-1772409599@unihillchurch.com.au
SUMMARY:Prayer & Fasting
DESCRIPTION:We have our week of Prayer & Fasting coming up\, starting on Monday 23rd February. This is a great opportunity and we are encouraged as believers to participate in this practice. Abstaining from food in order to deepen our connection to God\, we are being spiritually disciplined and allowing our spirit to strengthen as we focus on God. Ultimately drawing us closer to Him. \n7 Day Prayer and Fasting GuideRomans 15:13 \nMay the God of hope fill you with all joy and peace as you trust in him\, so that you may overflow with hope by the power of the Holy Spirit.
URL:https://unihillchurch.com.au/event/prayer-fasting/
CATEGORIES:Bundoora
ATTACH;FMTTYPE=image/png:https://unihillchurch.com.au/wp-content/uploads/2026/02/Nomis-Dev-Centre-1.png
END:VEVENT
BEGIN:VEVENT
DTSTART;TZID=Australia/Melbourne:20260208T090000
DTEND;TZID=Australia/Melbourne:20260208T123000
DTSTAMP:20260420T041219
CREATED:20260205T204949Z
LAST-MODIFIED:20260205T221522Z
UID:2200-1770541200-1770553800@unihillchurch.com.au
SUMMARY:Vision Sunday
DESCRIPTION:This Sunday we’ll be gathering for Vision Sunday. Come expectant to hear what God has placed on Ps Charles’ heart for UniHill Church in 2026\, and to respond in faith to what God is leading us to participate in this year\, as disciples of Jesus in our community and beyond.
URL:https://unihillchurch.com.au/event/vision-sunday/
ATTACH;FMTTYPE=image/png:https://unihillchurch.com.au/wp-content/uploads/2026/02/Nomis-Development-Centre-1.png
END:VEVENT
BEGIN:VEVENT
DTSTART;TZID=Australia/Melbourne:20251225T090000
DTEND;TZID=Australia/Melbourne:20251225T100000
DTSTAMP:20260420T041219
CREATED:20241126T023234Z
LAST-MODIFIED:20251208T225825Z
UID:1289-1766653200-1766656800@unihillchurch.com.au
SUMMARY:Christmas Day Service
DESCRIPTION:🎄✨ Celebrate Christmas with Us! ✨🎄 \nJoin us for a special Christmas Service on December 25th\, from 9–10am\, as we reflect on the incredible gift of Jesus Christ\, our Savior. \nIt’s going to be a meaningful and joyful time together\, and we’d love to see you there! 🌟❤️
URL:https://unihillchurch.com.au/event/christmas-day-service/
CATEGORIES:Bundoora
ATTACH;FMTTYPE=image/png:https://unihillchurch.com.au/wp-content/uploads/2024/11/Hope-at-Christmas-Basic-Slide-Pack.pptx-1.png
END:VEVENT
BEGIN:VEVENT
DTSTART;VALUE=DATE:20251214
DTEND;VALUE=DATE:20251215
DTSTAMP:20260420T041219
CREATED:20251205T041625Z
LAST-MODIFIED:20251208T215456Z
UID:1982-1765670400-1765756799@unihillchurch.com.au
SUMMARY:Christmas Celebration Service
DESCRIPTION:It’s such a wonderful opportunity to gather together to celebrate the birth of Jesus. There will be Christmas decorations\, carols (played by a full band + choir)\, a presentation from the UniHill kids plus lots and lots of joy! We’d love for you to come along\, bring your family and friends and join us in creating a bit of that Christmas spirit. Look forward to seeing you there! \nChristmas at UniHill Church. We’ll be having a special service on Sunday 14th of December\, both 9am & 11am services\, to celebrate the wonderful time of year that is Christmas.
URL:https://unihillchurch.com.au/event/christmas-celebration-service/
LOCATION:UniHill Church Bundoora\, 30 Graduate Rd\, Bundoora\, VIC\, 3083\, Australia
CATEGORIES:Bundoora
ATTACH;FMTTYPE=image/png:https://unihillchurch.com.au/wp-content/uploads/2025/12/THIS-IS-AN-IMPORTANT-POINT.png
END:VEVENT
BEGIN:VEVENT
DTSTART;TZID=Australia/Melbourne:20251111T190000
DTEND;TZID=Australia/Melbourne:20251111T203000
DTSTAMP:20260420T041219
CREATED:20251028T043326Z
LAST-MODIFIED:20260311T014534Z
UID:1930-1762887600-1762893000@unihillchurch.com.au
SUMMARY:Shane Willard
DESCRIPTION:Shane is from Charleston\, SC (USA)\, and has been in full-time ministry for over 20 years. He began working in full-time ministry as a youth pastor of a small church. Since that time\, Shane has held multiple pastoral positions at various sized churches. With degrees in both clinical psychology and theology\, Shane is known for being an informative\, brilliant and humorous communicator. \nShane is mentored by a pastor with rabbinical training\, and teaches the context of the Scriptures from a Hebraic perspective. This perspective helps people to see God’s Word in a completely new way and leads them into a more intimate relationship with the Messiah\, Jesus Christ \nWe’d love for you to join us for an evening of hearing Shane talk about love\, hope and God’s word. \nDetails:\n6th August 2026\n7pm – 8:30pm \nRegister Here
URL:https://unihillchurch.com.au/event/shane-willard/
LOCATION:UniHill Church Bundoora\, 30 Graduate Rd\, Bundoora\, VIC\, 3083\, Australia
CATEGORIES:Bundoora
ATTACH;FMTTYPE=image/jpeg:https://unihillchurch.com.au/wp-content/uploads/2025/10/Shane-Willard-1.jpg
END:VEVENT
BEGIN:VEVENT
DTSTART;TZID=Australia/Melbourne:20251025T180000
DTEND;TZID=Australia/Melbourne:20251025T220000
DTSTAMP:20260420T041219
CREATED:20250925T055316Z
LAST-MODIFIED:20251024T223945Z
UID:1807-1761415200-1761429600@unihillchurch.com.au
SUMMARY:Girl's Night Out
DESCRIPTION:Girl’s Night Out \nWe’re heading to Slices Doreen on Saturday\, 25th October 2025\, from 6pm – 10pm. \nIt won’t be the same without you! Come share a fun evening of great food\, amazing company\, and plenty of laughter. \nThis night is for women of all ages. Bring your mum\, your bestie\, your daughter\, your neighbour\, your sister or your workmates. Together we’ll enjoy a delicious dinner\, a hilarious panel\, and prizes that will make the night unforgettable! \nThis event is now full\, but to join a waitlist please email Jasmine Crennan: jasmine@unihillchurch.com.au
URL:https://unihillchurch.com.au/event/girls-night-out/
LOCATION:Slices Doreen\, 1/80 Hazel Glen Drive\, Doreen\, VIC\, 3754\, Australia
CATEGORIES:Bundoora
ATTACH;FMTTYPE=image/png:https://unihillchurch.com.au/wp-content/uploads/2025/09/Girls-Night-Slide-2.png
END:VEVENT
END:VCALENDAR