BEGIN:VCALENDAR
VERSION:2.0
PRODID:-//UniHill Church - ECPv6.15.20//NONSGML v1.0//EN
CALSCALE:GREGORIAN
METHOD:PUBLISH
X-ORIGINAL-URL:https://unihillchurch.com.au
X-WR-CALDESC:Events for UniHill Church
REFRESH-INTERVAL;VALUE=DURATION:PT1H
X-Robots-Tag:noindex
X-PUBLISHED-TTL:PT1H
BEGIN:VTIMEZONE
TZID:Australia/Melbourne
BEGIN:STANDARD
TZOFFSETFROM:+1100
TZOFFSETTO:+1000
TZNAME:AEST
DTSTART:20250405T160000
END:STANDARD
BEGIN:DAYLIGHT
TZOFFSETFROM:+1000
TZOFFSETTO:+1100
TZNAME:AEDT
DTSTART:20251004T160000
END:DAYLIGHT
BEGIN:STANDARD
TZOFFSETFROM:+1100
TZOFFSETTO:+1000
TZNAME:AEST
DTSTART:20260404T160000
END:STANDARD
BEGIN:DAYLIGHT
TZOFFSETFROM:+1000
TZOFFSETTO:+1100
TZNAME:AEDT
DTSTART:20261003T160000
END:DAYLIGHT
BEGIN:STANDARD
TZOFFSETFROM:+1100
TZOFFSETTO:+1000
TZNAME:AEST
DTSTART:20270403T160000
END:STANDARD
BEGIN:DAYLIGHT
TZOFFSETFROM:+1000
TZOFFSETTO:+1100
TZNAME:AEDT
DTSTART:20271002T160000
END:DAYLIGHT
END:VTIMEZONE
BEGIN:VEVENT
DTSTART;VALUE=DATE:20260505
DTEND;VALUE=DATE:20260708
DTSTAMP:20260420T023229
CREATED:20240826T032026Z
LAST-MODIFIED:20260405T042754Z
UID:994-1777939200-1783468799@unihillchurch.com.au
SUMMARY:Alpha
DESCRIPTION:Is there more to life than this?\nWe find ourselves constantly looking for answers to bigger and deeper questions in life. But what we don’t realise\, is that we are not alone in this. \nEveryone has questions. We should have the opportunity to explore life and faith where we can freely ask questions and share our point of view. \nThis is where Alpha comes into it. \nAlpha is a series of sessions exploring life and the Christian faith. It is run all around the globe in homes\, workplaces\, churches\, pubs and cafes. It is designed for those who wouldn’t necessarily call themselves Christians or church goers\, but are curious about the bigger issues concerning faith\, spirituality and the meaning of life. Alpha is a safe place to explore these things\, and provides an opportunity to meet some great people\, share a home-cooked meal and join in a judgement free\, open conversation around some of life’s biggest questions. And it’s free! \nAlpha includes three key elements: food\, a video and good conversation. \n\n\n\n\n\n\n\nFirst up there is food.\nEating is a relaxed way to make new friends and connect with like-minded people who are on the same journey.\n\n\n\nThen there is a video.\nThere are video presentations designed to engage and inspire conversation. They explore the big issues around faith and unpack the basics of Christianity\, addressing questions such as: \n\nIs there more to life than this?\nWho is Jesus?\nHow can we have faith?\nWhy and how do I pray?\nAnd how does God guide us?\n\n\n\n\n\nFollowed by an open discussion.\nThe small group discussion is the best part of Alpha as you get the chance to share your thoughts and ideas. There’s no obligation to say anything and there’s nothing you can’t say. In fact\, at Alpha you can ask anything. No question is too minor or too big to discuss. It’s an opportunity to hear from others and contribute their own perspective in an honest\, friendly and open environment.\n\n\n\n\nIf you know of anyone who you think might be open to Alpha and would be interested in coming along\, then please invite them along\, and then come with them. \nDetails:\nTuesday nights\n5 May 2026 – 7 July 2026\n7-9pm \nFor more information contact Cal Revell: cal@unihillchurch.com.au \nRegister Here
URL:https://unihillchurch.com.au/event/alpha/
LOCATION:Rosa Cafe (UniHill Church Bundoora)\, 30 Graduate Drive\, Bundoora\, VIC\, 3083\, Australia
CATEGORIES:Bundoora
ATTACH;FMTTYPE=image/jpeg:https://unihillchurch.com.au/wp-content/uploads/2024/08/AlphaSquares10-1024x576-1.jpg
END:VEVENT
END:VCALENDAR